BEGIN:VCALENDAR
VERSION:2.0
PRODID:-//ChamberMaster//Event Calendar 2.0//EN
METHOD:PUBLISH
X-PUBLISHED-TTL:P1H
REFRESH-INTERVAL:P1H
CALSCALE:GREGORIAN
BEGIN:VTIMEZONE
TZID:America/New_York
BEGIN:DAYLIGHT
RRULE:FREQ=YEARLY;BYMONTH=3;BYDAY=2SU
DTSTART:20070101T000000
TZOFFSETFROM:-0500
TZOFFSETTO:-0400
TZNAME:Eastern Daylight Time
END:DAYLIGHT
BEGIN:STANDARD
RRULE:FREQ=YEARLY;BYMONTH=11;BYDAY=1SU
DTSTART:20070101T000000
TZOFFSETFROM:-0400
TZOFFSETTO:-0500
TZNAME:Eastern Standard Time
END:STANDARD
END:VTIMEZONE
BEGIN:VEVENT
DTSTART;TZID=America/New_York:20260521T183000
DTEND;TZID=America/New_York:20260521T193000
X-MICROSOFT-CDO-ALLDAYEVENT:FALSE
SUMMARY:Align Your Life With the Power of 9: The Nine Dimensions of Wellness and The Talk We All Need To Hear About Our Health
DESCRIPTION:Join us for an important and insightful conversation on the Nine Dimensions of Wellness featuring Francine Pearce\, MD\, MBA\, and Mary Ojo-Carons\, MD\, MBA. In celebration of Women’s Health Month\, this virtual program will explore how a holistic approach to health supports strength\, wellness\, and long-term balance.\n\nThe doctors will also discuss holistic health\, menopause\, and hormone therapy\, and how these topics support balance\, resilience\, and whole-person health. This timely discussion is designed to provide meaningful insight and encourage a deeper understanding of women’s health across every stage of life.\n\nBe sure to register and join us for this engaging and informative conversation.
X-ALT-DESC;FMTTYPE=text/html:Join us for an important and insightful conversation on the Nine Dimensions of Wellness featuring Francine Pearce\, MD\, MBA\, and Mary Ojo-Carons\, MD\, MBA. In celebration of Women’s Health Month\, this virtual program will explore how a holistic approach to health supports strength\, wellness\, and long-term balance.\n\nThe doctors will also discuss holistic health\, menopause\, and hormone therapy\, and how these topics support balance\, resilience\, and whole-person health. This timely discussion is designed to provide meaningful insight and encourage a deeper understanding of women’s health across every stage of life.\n\nBe sure to register and join us for this engaging and informative conversation.
LOCATION:
UID:e.1767.1445195
SEQUENCE:3
DTSTAMP:20260421T192046Z
URL:https://business.northernvirginiabcc.org/events/Details/align-your-life-with-the-power-of-9-the-nine-dimensions-of-wellness-and-the-talk-we-all-need-to-hear-about-our-health-1711702?sourceTypeId=Hub
END:VEVENT
END:VCALENDAR
